BEGIN:VCALENDAR
VERSION:2.0
PRODID:-//বাংলাদেশ রোবট অলিম্পিয়াড - ECPv6.15.20//NONSGML v1.0//EN
CALSCALE:GREGORIAN
METHOD:PUBLISH
X-WR-CALNAME:বাংলাদেশ রোবট অলিম্পিয়াড
X-ORIGINAL-URL:https://bdro.org
X-WR-CALDESC:Events for বাংলাদেশ রোবট অলিম্পিয়াড
REFRESH-INTERVAL;VALUE=DURATION:PT1H
X-Robots-Tag:noindex
X-PUBLISHED-TTL:PT1H
BEGIN:VTIMEZONE
TZID:Asia/Dhaka
BEGIN:STANDARD
TZOFFSETFROM:+0600
TZOFFSETTO:+0600
TZNAME:+06
DTSTART:20230101T000000
END:STANDARD
END:VTIMEZONE
BEGIN:VEVENT
DTSTART;TZID=Asia/Dhaka:20240712T100000
DTEND;TZID=Asia/Dhaka:20240712T160000
DTSTAMP:20260424T104956
CREATED:20240629T162118Z
LAST-MODIFIED:20240629T162118Z
UID:3543-1720778400-1720800000@bdro.org
SUMMARY:Robotics For Beginner
DESCRIPTION:রোবটিক্স সম্পর্কে কোন ধারণা নেই\, কিন্তু একদম বেসিক থেকে যারা শিখতে চায়\, এমন শিশুদের জন্য বেসিক রোবটিক্স শেখার বিশেষ একটি একদিনের কর্মশালা আয়োজিত হচ্ছে ১২ জুলাই। \nবাংলাদেশ রোবট অলিম্পিয়াড ও বাংলাদেশ ওপেন সোর্স নেটওয়ার্কের যৌথ আয়োজনে এই ক্যাম্প শেষে একজন শিশু হাতেকলমে আরডুইনোর মাধ্যমে ৬ টি বেসিক রোবটিক্স প্রোজেক্ট বানানো শিখবে এবং বাংলাদেশ রোবট অলিম্পিয়াডের প্রস্তুতির প্রাথমিক ধারণা পাবে।যারা অংশ নিতে পারবে- আগে কখনও রোবটিকস নিয়ে কাজ করে নি এমন ২০০৬ থেকে ২০১৬ সালের মধ্যে জন্মগ্রহণ করা শিশুরাআসন সংখ্যা – ১৫ ( আসন সংখ্যা শেষ হয়ে গেলে নিবন্ধন বন্ধ করে দেয়া হবে)রেজিস্ট্রেশনের শেষ সময় – ১০ জুলাই ২০২৪\, রাত ১১ টা ৫০ মিনিট।ক্যাম্পের সময় – ১২ জুলাই ২০২৪\, সকাল ১০ টা থেকে বিকাল ৪ টাক্যাম্প ভেন্যু – ১২ তলা\, ৭৫৮ সাতমসজিদ রোড\, ঢাকা (আবাহনী মাঠের বিপরীত পাশে)
URL:https://bdro.org/event/robotics-for-beginner/
LOCATION:Bangladesh Robot Olympiad\, Bangladesh Robot Olympiad\,758 Satmasjid Road\, Dhaka\, 1209\, Bangladesh
CATEGORIES:কর্মশালা
ATTACH;FMTTYPE=image/jpeg:https://bdro.org/wp-content/uploads/2024/06/Robotics-For-Beginner-scaled.jpg
ORGANIZER;CN="Bangladesh Robot Olympiad":MAILTO:bdro@bdosn.org
END:VEVENT
BEGIN:VEVENT
DTSTART;TZID=Asia/Dhaka:20240713T203000
DTEND;TZID=Asia/Dhaka:20240713T213000
DTSTAMP:20260424T104956
CREATED:20240711T171450Z
LAST-MODIFIED:20240711T172646Z
UID:5296-1720902600-1720906200@bdro.org
SUMMARY:Creative Category Rule Discussion
DESCRIPTION:Are you ready for the 7th Bangladesh Robot Olympiad 2024?  \nWe’re thrilled to announce an update to the rulebook for the Creative Category!  The updated rulebook will be on the BdRO website on the night of July 13th. But wait\, there’s more!  \nJoin us for an exclusive Facebook Live Session to dive into all the new rules of the Creative Category!  Got questions? We’ve got answers!  \nMark your calendars for July 13th at 8:30 PM. Don’t miss this chance to fuel your creativity and build a robot that helps humanity!  Let’s innovate and create together!
URL:https://bdro.org/event/creative-category-rule-discussion/
CATEGORIES:এক্টিভেশন
ATTACH;FMTTYPE=image/webp:https://bdro.org/wp-content/uploads/2024/07/449698971_878530834295990_7374982691901595985_n.jpg
ORGANIZER;CN="Bangladesh Robot Olympiad":MAILTO:bdro@bdosn.org
END:VEVENT
END:VCALENDAR