BEGIN:VCALENDAR
VERSION:2.0
PRODID:-//বাংলাদেশ রোবট অলিম্পিয়াড - ECPv6.15.20//NONSGML v1.0//EN
CALSCALE:GREGORIAN
METHOD:PUBLISH
X-WR-CALNAME:বাংলাদেশ রোবট অলিম্পিয়াড
X-ORIGINAL-URL:https://bdro.org
X-WR-CALDESC:Events for বাংলাদেশ রোবট অলিম্পিয়াড
REFRESH-INTERVAL;VALUE=DURATION:PT1H
X-Robots-Tag:noindex
X-PUBLISHED-TTL:PT1H
BEGIN:VTIMEZONE
TZID:Asia/Dhaka
BEGIN:STANDARD
TZOFFSETFROM:+0600
TZOFFSETTO:+0600
TZNAME:+06
DTSTART:20230101T000000
END:STANDARD
END:VTIMEZONE
BEGIN:VEVENT
DTSTART;TZID=Asia/Dhaka:20240401T140000
DTEND;TZID=Asia/Dhaka:20240404T150000
DTSTAMP:20260424T053026
CREATED:20240323T091639Z
LAST-MODIFIED:20240323T091639Z
UID:3406-1711980000-1712242800@bdro.org
SUMMARY:অনলাইনে মাইক্রোপাইথন দিয়ে রাস্পবেরি পাই পিকো এপ্রিল ২০২৪
DESCRIPTION:বর্তমানে মাইক্রোপাইথনের ব্যবহার বাড়ছে রোবটিক্সে। আর রাস্পবেরি পাই পিকো একটি দারুন প্রসেসিং ক্ষমতাসম্পন্ন ডেভেলপমেন্ট বোর্ড মাইক্রোপাইথন ব্যবহার করে রোবটিক্সের কাজ করার জন্য। \nতাই বাংলাদেশ রোবট অলিম্পিয়াড আয়োজন করছে একটি অনলাইনে মাইক্রোপাইথন দিয়ে রাস্পবেরি পাই পিকো ক্যাম্প! \n\nযারা অংশ নিতে পারবে- আগে কখনও মাইক্রোপাইথন বা রাস্পবেরি পাই পিকো নিয়ে কাজ করে নি এমন ১০-১৮ বছর বয়সী শিক্ষার্থী\nরেজিস্ট্রেশন ফি – ৫০০ টাকা\nরেজিস্ট্রেশনের শেষ সময় – ৩০ মার্চ ২০২৪\nক্যাম্পের সময় – ১\,২\,৩ ও ৪ এপ্রিল ২০২৪\,  প্রতিদিন দুপুর ২ টা থেকে বিকাল ৩ টা পর্যন্ত\nপ্ল্যাটফর্ম – গুগল মিট \nক্যাম্পের কারিকুলাম –\nমাইক্রোপাইথন পরিচিতি\, মাইক্রোপাইথনের বিভিন্ন সিনট্যাক্স\, রাস্পবেরি পাই পিকো পরিচিতি\,বিভিন্ন জিপিআইও পিন ইন্টারফেসিং\, সেন্সর ডাটা একুইজিশন\, ডিসপ্লে মডিউল\, রিলে\, মোটর আউটপুট\, হ্যান্ডলিং টাইম\, ডাটালগিংসহ বিভিন্ন সিমুলেশন প্রোজেক্ট। \nবিশেষ দ্রষ্টব্য –  ক্যাম্পে অংশগ্রহণকারী প্রত্যেক শিক্ষার্থী ক্যাম্পে অংশগ্রহণের ডিজিটাল সার্টিফিকেট পাবে। \nরেজিস্ট্রেশনের নিয়ম –\n১. প্রথমেই বিকাশের মাধ্যমে নিবন্ধন ফি প্রদান করতে হবে।\nবিকাশ নম্বর: 01316814633\n২. এই বিকাশ নম্বর একটি  মারচেন্ট নম্বর। তাই বিকাশের Make Payment অপশন ব্যবহার করে শুধুমাত্র ক্যাম্পে অংশ নিতে চাইলে ৫০০ টাকা (পাঁচশত টাকা) বিকাশ পেমেন্ট করতে হবে। নিবন্ধনের জন্য বিকাশের ফিরতি ম্যাসেজের ট্রাঞ্জেকশন আইডি (TrxID) সংরক্ষণ বা সেভ করতে হবে।\n৩. এরপর এই ফর্মটি ( https://forms.gle/EhcqBrzN4Rn3qE2R6 ) পূরণ করতে হবে। ফর্মটি পূরণের সময় নির্ধারিত ট্রাঞ্জেকশন আইডিটি (TrxID) ফর্মে উল্লেখ হবে।\n৪. নিবন্ধনের শেষ সময়:    ৩০ মার্চ ২০২৪ \nযেকোনো প্রয়োজনে যোগাযোগ\nমিশাল ইসলাম\n01521439711
URL:https://bdro.org/event/online-raspberrypi-pico-apr-2024/
LOCATION:Online
CATEGORIES:কর্মশালা
ATTACH;FMTTYPE=image/jpeg:https://bdro.org/wp-content/uploads/2024/03/431872395_809641161184958_5693436991987667106_n-scaled.jpg
ORGANIZER;CN="Bangladesh Robot Olympiad":MAILTO:bdro@bdosn.org
END:VEVENT
BEGIN:VEVENT
DTSTART;TZID=Asia/Dhaka:20240419T100000
DTEND;TZID=Asia/Dhaka:20240419T150000
DTSTAMP:20260424T053026
CREATED:20240407T092622Z
LAST-MODIFIED:20240407T092654Z
UID:3411-1713520800-1713538800@bdro.org
SUMMARY:মূলথিম নিয়ে রিসার্চ ও অনুসন্ধানমূলক কর্মশালা
DESCRIPTION:বাংলাদেশ রোবট অলিম্পিয়াডে অংশগ্রহণের সবচেয়ে গুরুত্বপূর্ণ ধাপ হল এবছরের মূলথিম যথাযথভাবে স্টাডি করে কোন কোন সমস্যা রোবট দিয়ে সমাধান করা যাবে সেগুলো খুঁজে বের করা।\nএবছরের মূলথিম হল – Future Marine City Busan: Industry\, Tourism\, Culture\nবাংলাদেশ রোবট অলিম্পিয়াড ও বাংলাদেশ ওপেন সোর্স নেটওয়ার্ক তাই যৌথভাবে মূলথিম নিয়ে রিসার্চ করার ব্যাপারে একটি বিশেষ প্রস্তুতিমূলক কর্মশালা আয়োজন করছে।\n\n  \nযারা অংশ নিতে পারবে- বাংলাদেশ রোবট অলিম্পিয়াডে অংশ নিতে আগ্রহী ২০০৬-২০১৭ সালের মধ্যে জন্মগ্রহণ করা যেকোনো বাংলাদেশী শিক্ষার্থী\nআসন সংখ্যা – ৩০ ( আসন সংখ্যা শেষ হয়ে গেলে নিবন্ধন বন্ধ করে দেয়া হবে)\nরেজিস্ট্রেশনের শেষ সময় – ১৬ এপ্রিল ২০২৪\, রাত ১১ টা ৫০ মিনিট।\nক্যাম্পের সময় – ১৯ এপ্রিল ২০২৪\, সকাল ১০ টা থেকে বিকাল ৩ টা\nক্যাম্প ভেন্যু – ১২ তলা\, ৭৫৮ সাতমসজিদ রোড\, ঢাকা (আবাহনী মাঠের বিপরীত পাশে) \nএই ক্যাম্পে রোবট তৈরি করা শিখানো হবে না। কিন্তু যারা বাংলাদেশ রোবট অলিম্পিয়াডে এবছর অংশ নিতে চায় তাদের বিস্তারিত দিকনির্দেশনা দেয়া হবে কীভাবে এবছরের মূলথিম নিয়ে রিসার্চ করে বিভিন্ন সমস্যা খুঁজে বের করতে হবে এবং সেই অনুযায়ী রোবট তৈরি করে সমস্যা সমাধানের জন্য কীভাবে যথাযথ পরিকল্পনা করা যাবে। \nবিশেষ দ্রষ্টব্য –\nক) ক্যাম্পে অংশগ্রহণকারী প্রত্যেক শিশু ক্যাম্পে অংশগ্রহণের সার্টিফিকেট পাবে।\nখ) শিক্ষার্থীকে নিজের ল্যাপটপ/মোবাইল ও মোবাইল ডাটা সাথে করে নিয়ে আসতে পারলে ভালো\, তবে আনা বাধ্যতামূলক নয়।\nগ) কর্মশালায় কোন খাবার দেয়া হবে না। তবে খাবার ও নামাজের বিরতি থাকবে সে সময়ে কোন শিক্ষার্থী চাইলে বাসা থেকে আনা খাবার খেতে পারবে। \nবিস্তারিত জানতে ও রেজিস্ট্রেশন করতে ভিজিট করুন এই লিংকে – https://forms.gle/z7GUX9Gqyw7WjsJ56
URL:https://bdro.org/event/theme-research-april-2024/
LOCATION:Bangladesh Robot Olympiad\, Bangladesh Robot Olympiad\,758 Satmasjid Road\, Dhaka\, 1209\, Bangladesh
CATEGORIES:বিশেষায়িত কর্মশালা
ATTACH;FMTTYPE=image/jpeg:https://bdro.org/wp-content/uploads/2024/04/434810254_821743316641409_6095749627414241313_n-scaled.jpg
ORGANIZER;CN="Bangladesh Robot Olympiad":MAILTO:bdro@bdosn.org
END:VEVENT
BEGIN:VEVENT
DTSTART;TZID=Asia/Dhaka:20240426T083000
DTEND;TZID=Asia/Dhaka:20240426T130000
DTSTAMP:20260424T053026
CREATED:20240417T191655Z
LAST-MODIFIED:20240417T191743Z
UID:3426-1714120200-1714136400@bdro.org
SUMMARY:Luna Shamsuddoha High School Girls Robotics Project Show
DESCRIPTION:সারাবিশ্বের সাথে তাল মিলিয়ে বাংলাদেশে বাংলাদেশ ওপেন সোর্স নেটওয়ার্ক প্রতিবছর মেয়ে শিশু ও নারীদের তথ্য ও যোগাযোগ প্রযুক্তি বিষয়ে পড়াশোনা ও ক্যারিয়ার গঠনে উৎসাহিত করতে গার্লস ইন আইসিটি উদযাপন করে থাকে। \nতারই ধারাবাহিকতায় এবছর আয়োজিত হচ্ছে লুনা সামসুদ্দোহা গার্লস ইন আইসিটি সপ্তাহ উদযাপন। বাংলাদেশ ওপেন সোর্স নেটওয়ার্কের আয়োজনে ও দোহাটেক এর অনুপ্রেরণায় এই উদযাপনের অন্যতম অনুষঙ্গ হিসেবে আয়োজিত হচ্ছে লুনা সামসুদ্দোহা হাই স্কুল গার্লস রোবটিক্স প্রোজেক্ট শো। এই প্রতিযোগিতার সহযোগী হিসেবে আছে বাংলাদেশ রোবট অলিম্পিয়াড ও ওয়ার্ল্ড রোবট অলিম্পিয়াড বাংলাদেশ। \nযারা অংশ নিতে পারবে- ৬ষ্ঠ থেকে ১০ শ্রেণির মেয়ে শিক্ষার্থী\nরেজিস্ট্রেশন ফি – ১০০ টাকা\nরেজিস্ট্রেশনের শেষ সময় – ২২ এপ্রিল ২০২৪\, রাত ১১ টা ৫০ মিনিট।\nপ্রতিযোগিতার সময় – ২৬ এপ্রিল ২০২৪\, সকাল ৮ টা ৩০ থেকে দুপুর ১ টা\nভেন্যু – ১২ তলা\, ৭৫৮ সাতমসজিদ রোড\, ঢাকা (আবাহনী মাঠের বিপরীত পাশে) \nপ্রতিযোগিতা পরিচিতি \nএটি একটি রোবটিক্স বিষয়ক সৃজনশীল প্রতিযোগিতা। মানুষের কল্যাণে ব্যবহার করা যায় এমন একটি রোবটিক্স প্রোজেক্ট তৈরি করে নিয়ে আসতে হবে। রোবটিক্স প্রোজেক্টটি যেকোনো হার্ডওয়্যার\, সফটওয়্যার দিয়ে তৈরি করা যাবে। উপস্থিত বিচারকদের সামনে ২ মিনিটের একটি উপস্থাপনা করতে হবে এবং রোবট চালিয়ে দেখাতে হবে। এসময় রোবটটি কীভাবে মানুষের কল্যাণে ব্যবহার করা যাচ্ছে সেটি প্রাধান্য পাবে বিচারকদের কাছে। \nপ্রতিযোগিতায় অংশগ্রহণের নিয়মাবলী \n১। এটি একটি একক প্রতিযোগিতা। একটি রোবট নিয়ে একজন প্রতিযোগী অংশ নিতে পারবে। \n২। প্রতিযোগিতাটি ২ টি ক্যাটাগরিতে অনুষ্ঠিত হবে- \nজুনিয়র – ৬ষ্ঠ থেকে ৮ম শ্রেণি \nসিনিয়র – ৯ম\, ১০ম শ্রেণি ও এসএসসি পরীক্ষার্থী \n৩। প্রথমে নির্ধারিত ফর্মে রেজিস্ট্রেশন করতে হবে ও নিজের রোবটের আইডিয়া ৩০০ শব্দের মধ্যে লিখে জমা দিতে হবে। যারা রেজিস্ট্রেশন করবে তাদের একটি অনলাইন সাক্ষাৎকার নেয়া হবে। \n৪। অনলাইন সাক্ষাৎকার থেকে মোট ২০ জনকে বাছাই করা হবে প্রতিযোগিতায় অংশগ্রহণের জন্য। \n৫। নির্বাচিতরা প্রতিযোগিতার দিন ভেন্যুতে এসে নিজেদের রোবট প্রদর্শনী করবে এবং উপস্থিত বিচারকদের সামনে রোবট উপস্থাপনা করবে। \n৬। বিচারকদের সামনে ২ মিনিট সময় পাওয়া যাবে উপস্থাপনা ও রোবট চালিয়ে দেখার জন্য। \n৭। এরপর বিচারকেরা রোবট সম্পর্কিত বিভিন্ন প্রশ্ন জিজ্ঞাসা করতে পারেন ও সার্বিক পারফরম্যান্স থেকে বিজয়ী নির্বাচন করবেন। \n৮। প্রতিটি ক্যাটাগরি থেকে সেরা ৩ জন বিজয়ী ঘোষিত হবে ও পুরষ্কার হিসেবে এচিভমেন্ট সার্টিফিকেট\, মেডেল ও বই পুরষ্কার পাবে। \n৯। ভেন্যুতে আসা সকল প্রতিযোগীও অংশগ্রহণ করার সার্টিফিকেট পাবে। \n১০। যেকোনো বিষয়ে বিচারকদের সিদ্ধান্তই চূড়ান্ত। \nবিশেষ দ্রষ্টব্য – \nক) শিক্ষার্থীকে নিজের ল্যাপটপ\, রোবট\, ল্যাপটপের চার্জার\, মাল্টিপ্লাগ ইত্যাদি প্রয়োজনীয় উপকরণ সাথে করে নিয়ে আসতে হবে প্রতিযোগিতার দিন।\nখ) প্রতিযোগিতায় কোন খাবারের ব্যবস্থা নেই। চাইলে সাথে করে বাসা থেকে খাবার আনা যাবে।\nগ) অভিভাবকদের জন্য কোন ওয়েটিং জোনের ব্যবস্থা নেই।\nঘ) অনলাইন সাক্ষাৎকারে অংশ নিয়ে নির্বাচিত না হলে ভেন্যুতে এসে প্রতিযোগিতায় অংশ নেবার কোন সুযোগ নেই। \nরেজিস্ট্রেশনের নিয়ম –\n১. প্রথমেই বিকাশের মাধ্যমে নিবন্ধন ফি প্রদান করতে হবে।\nবিকাশ নম্বর: 01924016037\n২. এই বিকাশ নম্বর একটি মারচেন্ট নম্বর। তাই বিকাশের Make Payment অপশন ব্যবহার করে প্রতিযোগিতায় অংশ নিতে চাইলে ১০০ টাকা (এক শত টাকা) বিকাশ পেমেন্ট করতে হবে। নিবন্ধনের জন্য বিকাশের ফিরতি ম্যাসেজের ট্রাঞ্জেকশন আইডি (TrxID) সংরক্ষণ বা সেভ করতে হবে।\n৩. এরপর এই ফর্মটি ( https://forms.gle/pmNNUzDhDKikV2bs8 ) পূরণ করতে হবে। ফর্মটি পূরণের সময় নির্ধারিত ট্রাঞ্জেকশন আইডিটি (TrxID) ফর্মে উল্লেখ করতে হবে।\nরেজিস্ট্রেশনের শেষ সময় – ২২ এপ্রিল ২০২৪\, রাত ১১ টা ৫০ মিনিট। \nযেকোনো প্রয়োজনে যোগাযোগ\nমিশাল ইসলাম\n01521439711
URL:https://bdro.org/event/luna-shamsuddoha-high-school-girls-robotics-project-show/
LOCATION:Bangladesh Robot Olympiad\, Bangladesh Robot Olympiad\,758 Satmasjid Road\, Dhaka\, 1209\, Bangladesh
CATEGORIES:বিশেষায়িত প্রতিযোগিতা
ATTACH;FMTTYPE=image/jpeg:https://bdro.org/wp-content/uploads/2024/04/438196520_829748919174182_8811560995859183876_n.jpg
ORGANIZER;CN="Bangladesh Open Source Network":MAILTO:info@bdosn.org
END:VEVENT
BEGIN:VEVENT
DTSTART;TZID=Asia/Dhaka:20240426T180000
DTEND;TZID=Asia/Dhaka:20240430T190000
DTSTAMP:20260424T053026
CREATED:20240417T192710Z
LAST-MODIFIED:20240417T192752Z
UID:3430-1714154400-1714503600@bdro.org
SUMMARY:অনলাইন স্কুল অব রোবটিকস ক্যাম্প এপ্রিল ২০২৪
DESCRIPTION:বাংলাদেশ রোবট অলিম্পিয়াডের প্রস্তুতি নেবার জন্য প্রাথমিক ধাপ হল রোবটিকসে হাতেকলমে ধারণা নেয়া। বাংলাদেশের প্রেক্ষাপটে আরডুইনো দিয়ে এই হাতেকলমে ধারণা শুরুতে গ্রহণ করা সহজ।\nবাংলাদেশ রোবট অলিম্পিয়াড সারাদেশের শিক্ষার্থীদের জন্য অনলাইনে আয়োজন করছে একটি ৫ দিনব্যাপী অনলাইন স্কুল অব রোবটিকস ক্যাম্প! \nএই ক্যাম্পে আগে কখনও আরডুইনো বা রোবটিকস নিয়ে কাজ করে নি এমন ৭-১৮ বছর বয়সী শিক্ষার্থীরা অনলাইন প্লাটফর্ম ব্যবহার করে সিমুলেশনের সাহায্য বেসিক রোবটিকস শেখার সুযোগ পাবে। \nএক্ষেত্রে  গুগল মিটে যুক্ত হয়ে রোবটিকসে হাতেখড়ি নেয়া যাবে সরাসরি আন্তর্জাতিক রোবট অলিম্পিয়াডের মেন্টর থেকে।\nক্যাম্পটি  কোন লাইভ সম্প্রচার করা হবে না ফেসবুকে এবং কোন রেকর্ডিং থাকবে না।\n\n৫০০ টাকা নিবন্ধন ফি প্রদান করে তুমিও তাই এই ক্যাম্পে নিবন্ধন করে ফেলতে পারো। \nযারা অংশ নিতে পারবে- আগে কখনও আরডুইনো বা রোবটিকস নিয়ে কাজ করে নি এমন ৭-১৮ বছর বয়সী শিক্ষার্থী\nরেজিস্ট্রেশন ফি – ৫০০ টাকা\nরেজিস্ট্রেশনের শেষ সময় – ২৪ এপ্রিল ২০২৪\nক্যাম্পের সময় – ২৬ থেকে ৩০ এপ্রিল  \, প্রতিদিন সন্ধ্যা ৬টা থেকে ৭টা\nক্যাম্পের কারিকুলাম –\nরোবট সম্পর্কে প্রাথমিক ধারণা \, ইলেক্ট্রনিক্সে হাতেখড়ি \, আরডুইনো পরিচিতি \, এলইডি ব্লিঙ্ক (ডিজিটাল আউটপুট) \, এলইডি ফেডিং (এনালগ আউটপুট)  \, সেন্সর পরিচিতি\, পুশবাটন (ডিজিটাল ইনপুট )\, পটেনশিওমিটার (এনালগ ইনপুট)  \, সোনার সেন্সর\, আইআর সেন্সর\, সারভো মোটর\, এলসিডি ডিসপ্লে\, বাংলাদেশ রোবট অলিম্পিয়াডের প্রস্তুতি।\nবিশেষ দ্রষ্টব্য – ৫ দিনের পুরো কোর্স যারা সফলভাবে সম্পন্ন করবে তারা ডিজিটাল সার্টিফিকেট পাবে। \nরেজিস্ট্রেশনের নিয়ম –\n১. প্রথমেই বিকাশের মাধ্যমে নিবন্ধন ফি প্রদান করতে হবে।\nবিকাশ নম্বর: 01316814633\n২. এই বিকাশ নম্বর একটি  মারচেন্ট নম্বর। তাই বিকাশের Make Payment অপশন ব্যবহার করে ৫০০/= (পাঁচশত টাকা মাত্র ) বিকাশ পেমেন্ট করতে হবে। নিবন্ধনের জন্য বিকাশের ফিরতি ম্যাসেজের ট্রাঞ্জেকশন আইডি (TrxID) সংরক্ষণ বা সেভ করতে হবে।\n৩. এরপর এই ফর্মটি ( https://forms.gle/SWHwLaJ4GTppGUnt5  ) পূরণ করতে হবে। ফর্মটি পূরণের সময় নির্ধারিত ট্রাঞ্জেকশন আইডিটি (TrxID) ফর্মে উল্লেখ হবে।\n৪.  রেজিস্ট্রেশনের শেষ সময় –  ২৪ এপ্রিল ২০২৪ \nযেকোনো প্রয়োজনে যোগাযোগ\nমিশাল ইসলাম\n01521439711
URL:https://bdro.org/event/sor-online-april24/
LOCATION:Online
CATEGORIES:কর্মশালা
ATTACH;FMTTYPE=image/jpeg:https://bdro.org/wp-content/uploads/2024/04/434861582_825010602981347_6563845994758410163_n-scaled.jpg
ORGANIZER;CN="Bangladesh Robot Olympiad":MAILTO:bdro@bdosn.org
END:VEVENT
END:VCALENDAR