BEGIN:VCALENDAR
VERSION:2.0
PRODID:-//বাংলাদেশ রোবট অলিম্পিয়াড - ECPv6.15.20//NONSGML v1.0//EN
CALSCALE:GREGORIAN
METHOD:PUBLISH
X-WR-CALNAME:বাংলাদেশ রোবট অলিম্পিয়াড
X-ORIGINAL-URL:https://bdro.org
X-WR-CALDESC:Events for বাংলাদেশ রোবট অলিম্পিয়াড
REFRESH-INTERVAL;VALUE=DURATION:PT1H
X-Robots-Tag:noindex
X-PUBLISHED-TTL:PT1H
BEGIN:VTIMEZONE
TZID:Asia/Dhaka
BEGIN:STANDARD
TZOFFSETFROM:+0600
TZOFFSETTO:+0600
TZNAME:+06
DTSTART:20240101T000000
END:STANDARD
END:VTIMEZONE
BEGIN:VEVENT
DTSTART;TZID=Asia/Dhaka:20250418T103000
DTEND;TZID=Asia/Dhaka:20250418T163000
DTSTAMP:20260421T213236
CREATED:20250406T152433Z
LAST-MODIFIED:20250410T092605Z
UID:10062-1744972200-1744993800@bdro.org
SUMMARY:মূলথিম নিয়ে রিসার্চ ও অনুসন্ধানমূলক কর্মশালা
DESCRIPTION:বাংলাদেশ রোবট অলিম্পিয়াডে অংশগ্রহণের সবচেয়ে গুরুত্বপূর্ণ ধাপ হল এবছরের মূলথিম যথাযথভাবে স্টাডি করে কোন সমস্যাগুলো রোবট দিয়ে সমাধান করা যাবে সেগুলো খুঁজে বের করা।\nএবছরের মূলথিম হল – Space Robot\nবাংলাদেশ রোবট অলিম্পিয়াড ও বাংলাদেশ ওপেন সোর্স নেটওয়ার্ক তাই যৌথভাবে মূলথিম নিয়ে রিসার্চ করার ব্যাপারে একটি বিশেষ প্রস্তুতিমূলক কর্মশালা আয়োজন করছে।\n\n\nযারা অংশ নিতে পারবে- বাংলাদেশ রোবট অলিম্পিয়াডে অংশ নিতে আগ্রহী ৩য় থেকে ১২শ শ্রেণির যেকোনো বাংলাদেশী শিক্ষার্থী\n\nরেজিস্ট্রেশন ফি – ১০০০ টাকা\nআসন সংখ্যা – ২৬ ( আসন সংখ্যা শেষ হয়ে গেলে নিবন্ধন বন্ধ করে দেয়া হবে)\nরেজিস্ট্রেশনের শেষ সময় – ১৫ এপ্রিল ২০২৫\, রাত ১১ টা ৫০ মিনিট।\nক্যাম্পের সময় – ১৮ এপ্রিল ২০২৫\, সকাল ১০ টা ৩০ থেকে বিকাল ৪ টা ৩০ পর্যন্ত\nক্যাম্প ভেন্যু – ১২ তলা\, ৭৫৮ সাতমসজিদ রোড\, ঢাকা (আবাহনী মাঠের বিপরীত পাশে)\n*** কর্মশালায় রেজিস্ট্রেশন করার পর রিফান্ড করার সুযোগ নেই।\n\nএই  কর্মশালায় রোবট তৈরি করা শিখানো হবে না। কিন্তু যারা বাংলাদেশ রোবট অলিম্পিয়াডে এবছর অংশ নিতে চায় তাদের বিস্তারিত দিকনির্দেশনা দেয়া হবে কীভাবে এবছরের মূলথিম নিয়ে রিসার্চ করে বিভিন্ন সমস্যা খুঁজে বের করতে হবে এবং সেই অনুযায়ী রোবট তৈরি করে সমস্যা সমাধানের জন্য কীভাবে যথাযথ পরিকল্পনা করা যাবে।\n\nবিশেষ দ্রষ্টব্য –\nক) কর্মশালায় অংশগ্রহণকারী প্রত্যেক শিশু ক্যাম্পে অংশগ্রহণের সার্টিফিকেট পাবে।\nখ) শিক্ষার্থী নিজের মোবাইল ও মোবাইল ডাটা সাথে করে নিয়ে আসতে পারলে ভালো\, তবে আনা বাধ্যতামূলক নয়।\nগ) কর্মশালায় কোন খাবার দেয়া হবে না। তবে খাবার ও নামাজের বিরতি থাকবে। সে সময়ে কোন শিক্ষার্থী চাইলে বাসা থেকে আনা খাবার খেতে পারবে।\nঘ) এই কর্মশালায় সারাদিন অভিভাবকদের জন্য কোন ওয়েটিং জোনের ব্যবস্থা নেই। শিক্ষার্থীদের যথাযথ সময়ে কর্মশালায় পৌঁছে দিতে হবে।\n\nরেজিস্ট্রেশনের নিয়ম –\n\n১. প্রথমেই বিকাশের মাধ্যমে নিবন্ধন ফি প্রদান করতে হবে।\nবিকাশ নম্বর: 01316814633\n২. এই বিকাশ নম্বর একটি  মারচেন্ট নম্বর। তাই বিকাশের Make Payment অপশন ব্যবহার করে শুধুমাত্র ক্যাম্পে অংশ নিতে চাইলে ১০০০ টাকা (এক হাজার টাকা) বিকাশ পেমেন্ট করতে হবে। নিবন্ধনের জন্য বিকাশের ফিরতি ম্যাসেজের ট্রাঞ্জেকশন আইডি (TrxID) সংরক্ষণ বা সেভ করতে হবে।\n৩. এরপর এই ফর্মটি ( https://forms.gle/4pkroaN68bpZizyr6 ) পূরণ করতে হবে। ফর্মটি পূরণের সময় নির্ধারিত ট্রাঞ্জেকশন আইডিটি (TrxID) ফর্মে উল্লেখ করতে হবে।\n৪. রেজিস্ট্রেশনের শেষ সময় – ১৫ এপ্রিল ২০২৫\, রাত ১১ টা ৫০ মিনিট।\n\n\nযেকোনো প্রয়োজনে যোগাযোগ\nমিশাল ইসলাম\n01521439711\n(যেকোনো দিন সকাল ১০ টা থেকে বিকাল ৫টার মধ্যে যোগাযোগ করা যাবে)
URL:https://bdro.org/event/main-theme-research-workshop-2025/
LOCATION:Bangladesh Robot Olympiad\, Bangladesh Robot Olympiad\,758 Satmasjid Road\, Dhaka\, 1209\, Bangladesh
CATEGORIES:বিশেষায়িত কর্মশালা
ATTACH;FMTTYPE=image/jpeg:https://bdro.org/wp-content/uploads/2025/04/main-theme-workshop-2025111-1.jpg
ORGANIZER;CN="Bangladesh Robot Olympiad":MAILTO:bdro@bdosn.org
END:VEVENT
END:VCALENDAR