BEGIN:VCALENDAR
VERSION:2.0
PRODID:-//বাংলাদেশ রোবট অলিম্পিয়াড - ECPv6.15.20//NONSGML v1.0//EN
CALSCALE:GREGORIAN
METHOD:PUBLISH
X-WR-CALNAME:বাংলাদেশ রোবট অলিম্পিয়াড
X-ORIGINAL-URL:https://bdro.org
X-WR-CALDESC:Events for বাংলাদেশ রোবট অলিম্পিয়াড
REFRESH-INTERVAL;VALUE=DURATION:PT1H
X-Robots-Tag:noindex
X-PUBLISHED-TTL:PT1H
BEGIN:VTIMEZONE
TZID:Asia/Dhaka
BEGIN:STANDARD
TZOFFSETFROM:+0600
TZOFFSETTO:+0600
TZNAME:+06
DTSTART:20220101T000000
END:STANDARD
END:VTIMEZONE
BEGIN:VEVENT
DTSTART;TZID=Asia/Dhaka:20230728T200000
DTEND;TZID=Asia/Dhaka:20230728T203000
DTSTAMP:20260424T065216
CREATED:20230804T061931Z
LAST-MODIFIED:20230804T062052Z
UID:1999-1690574400-1690576200@bdro.org
SUMMARY:Robotics Quiz Competition- July 2023
DESCRIPTION:Unleash Your Inner Robotics Enthusiast! \n\n\n Mark your calendars for the July 2023 Robotics Quiz Competition\, exclusively for Bangladeshi students born on or after January 1st\, 2005! \n\n\nJoin us on July 28th\, 2023\, from 8:00 PM to 8:30 PM\, for an electrifying online journey into the fascinating world of robotics.  The quiz will cover captivating topics such as hardware\, programming\, and mathematical challenges\, designed to ignite your curiosity and inspire you to explore the captivating realm of robotics. \n\n\n Compete with your peers and stand a chance to win fantastic prizes! The top three achievers will be honored with certificates and books\, while all participants will receive a digital participation certificate.\n\n\nTo secure your spot\, register now on our Google Form platform. The registration fee is only 50 Taka\, and the deadline for registration is July 26th\, 2023.\n\n\n We kindly request previous winners of the Bangladesh Robot Olympiad to step aside and allow new talents to shine. Our goal is to promote fresh faces and provide equal opportunities for everyone\, fostering a vibrant robotics community.\n\n\n This is your moment to showcase your robotics knowledge and passion. Don’t miss out on this chance to demonstrate your skills and be a part of this thrilling competition!\n\n\nRegister today at https://forms.gle/wcBDcEzKeWGwwavp8 and embark on a memorable journey through the exciting world of robotics. See you on the competition day!
URL:https://bdro.org/event/1999/
CATEGORIES:মাসিক কুইজ
ORGANIZER;CN="Bangladesh Robot Olympiad":MAILTO:bdro@bdosn.org
END:VEVENT
END:VCALENDAR